BEGIN:VCALENDAR
VERSION:2.0
PRODID:-//Scenic City Cigars - ECPv6.15.20//NONSGML v1.0//EN
CALSCALE:GREGORIAN
METHOD:PUBLISH
X-WR-CALNAME:Scenic City Cigars
X-ORIGINAL-URL:https://sceniccitycigars.com
X-WR-CALDESC:Events for Scenic City Cigars
REFRESH-INTERVAL;VALUE=DURATION:PT1H
X-Robots-Tag:noindex
X-PUBLISHED-TTL:PT1H
BEGIN:VTIMEZONE
TZID:America/New_York
BEGIN:DAYLIGHT
TZOFFSETFROM:-0500
TZOFFSETTO:-0400
TZNAME:EDT
DTSTART:20240310T070000
END:DAYLIGHT
BEGIN:STANDARD
TZOFFSETFROM:-0400
TZOFFSETTO:-0500
TZNAME:EST
DTSTART:20241103T060000
END:STANDARD
BEGIN:DAYLIGHT
TZOFFSETFROM:-0500
TZOFFSETTO:-0400
TZNAME:EDT
DTSTART:20250309T070000
END:DAYLIGHT
BEGIN:STANDARD
TZOFFSETFROM:-0400
TZOFFSETTO:-0500
TZNAME:EST
DTSTART:20251102T060000
END:STANDARD
BEGIN:DAYLIGHT
TZOFFSETFROM:-0500
TZOFFSETTO:-0400
TZNAME:EDT
DTSTART:20260308T070000
END:DAYLIGHT
BEGIN:STANDARD
TZOFFSETFROM:-0400
TZOFFSETTO:-0500
TZNAME:EST
DTSTART:20261101T060000
END:STANDARD
END:VTIMEZONE
BEGIN:VEVENT
DTSTART;TZID=America/New_York:20250815T180000
DTEND;TZID=America/New_York:20250815T210000
DTSTAMP:20260419T120204
CREATED:20250806T133336Z
LAST-MODIFIED:20250806T133336Z
UID:929-1755280800-1755291600@sceniccitycigars.com
SUMMARY:Micallef Event!
DESCRIPTION:We’ve got Jeremy from Micallef coming to make deals\, do giveaways\, and celebrate one of the hottest brands in our humidor! \nBar themed giveaways including rocks glasses and an entire bar in a bag set are ready to be given away. \nThere are also rumors that an unreleased cigar may be present for people to try before it goes live to the public.
URL:https://sceniccitycigars.com/event/micallef-event/
LOCATION:TN
ATTACH;FMTTYPE=image/jpeg:https://sceniccitycigars.com/wp-content/uploads/2025/08/Micallef-Event-August-2025.jpg
END:VEVENT
BEGIN:VEVENT
DTSTART;TZID=America/New_York:20250821T190000
DTEND;TZID=America/New_York:20250821T210000
DTSTAMP:20260419T120204
CREATED:20250806T132910Z
LAST-MODIFIED:20250806T132910Z
UID:926-1755802800-1755810000@sceniccitycigars.com
SUMMARY:Ladies Night: Good Old-Fashioned Fun!
DESCRIPTION:Ladies Night at Scenic City Cigars  \n Theme: Good Old-Fashioned Fun  \nGrab your girls and your favorite bourbon — it’s time for a night of smoky sips and smooth vibes.  \n Tickets: $15 \n Signature cigar pairing included \n Bitters & garnishments provided \n BYOB (Bring Your Own Bourbon) \nWe’re mixing up memories and old fashions all night long! Don’t miss it.  \n Scenic City Cigars \n [Add your date/time here] \n Good vibes. Great smokes. Gorgeous company. \n#LadiesNight #ScenicCityCigars #OldFashionedFun #CigarsAndCocktails #ChattanoogaNights #HerfLife #BourbonBabes
URL:https://sceniccitycigars.com/event/ladies-night-good-old-fashioned-fun/
LOCATION:TN
ATTACH;FMTTYPE=image/jpeg:https://sceniccitycigars.com/wp-content/uploads/2025/08/Ladies-Night-August-2025.jpg
END:VEVENT
BEGIN:VEVENT
DTSTART;TZID=America/New_York:20250912T180000
DTEND;TZID=America/New_York:20250912T210000
DTSTAMP:20260419T120204
CREATED:20250905T181226Z
LAST-MODIFIED:20250905T181226Z
UID:937-1757700000-1757710800@sceniccitycigars.com
SUMMARY:Black Label Trading Company Event
DESCRIPTION:Chris from Black Label Trading Company will be here to show off their wide range of beautifully made Nicaraguan cigars. Come for great deals\, giveaways\, and event-only cigars!
URL:https://sceniccitycigars.com/event/black-label-trading-company-event/
LOCATION:Scenic City Cigars\, 7912 E Brainerd Rd\, Chattanooga\, TN 37421\, Chattanooga\, TN\, 37421\, United States
ATTACH;FMTTYPE=image/png:https://sceniccitycigars.com/wp-content/uploads/2025/09/Black-Label-Event.png
END:VEVENT
BEGIN:VEVENT
DTSTART;TZID=America/New_York:20250918T183000
DTEND;TZID=America/New_York:20250918T203000
DTSTAMP:20260419T120204
CREATED:20250915T014713Z
LAST-MODIFIED:20250915T014713Z
UID:943-1758220200-1758227400@sceniccitycigars.com
SUMMARY:Ladie's Night: Sip\, Smoke & Savor
DESCRIPTION:✨ Sip\, Smoke & Savor: Ladies’ Night Chocolate Pairing ✨\n\n🍫 Date: Thursday\, September 18th\n🕡 Time: 6:30 PM\n💵 Tickets: $20\n\nYour evening includes:\n🔥 One premium select cigar\n🍫 Three decadent chocolate tastings\n🍺 A rich chocolate stout beer\n\nJoin us for an indulgent night designed to delight the senses. Perfect pairings\, great company\, and a little luxury made just for the ladies. 💃✨\n\n📍 Scenic City Cigars\n📲 Reserve your spot today — limited seating available!\n\n#SipSmokeSavor #LadiesNight #ChocolatePairing #CigarLoungeVibes
URL:https://sceniccitycigars.com/event/ladies-night-sip-smoke-savor/
LOCATION:Scenic City Cigars\, 7912 E Brainerd Rd\, Chattanooga\, TN 37421\, Chattanooga\, TN\, 37421\, United States
ATTACH;FMTTYPE=image/jpeg:https://sceniccitycigars.com/wp-content/uploads/2025/09/1178A3C0-.jpg
END:VEVENT
BEGIN:VEVENT
DTSTART;TZID=America/New_York:20250927T170000
DTEND;TZID=America/New_York:20250927T210000
DTSTAMP:20260419T120204
CREATED:20250905T181407Z
LAST-MODIFIED:20250905T181407Z
UID:940-1758992400-1759006800@sceniccitycigars.com
SUMMARY:Rob & Christine's Birthday Party!
DESCRIPTION:You’re Invited!  \n Rob & Christine’s 80’s Neon Birthday Bash  \n Saturday\, 9/27/25 \n 5 PM \n Scenic City Cigars & Social \n Themed Dress-Up Party — come in your best 80’s neon look! \nCostume contest for the best dressed. \nAn assortment of classic 80’s snack served. \n Boom boxes\, big hair\, bright lights\, & totally rad vibes!  \n#80sParty #NeonVibes #RetroBash #BirthdayGlow #TotallyRad #DanceParty #RetroStyle #80sFashion #PartyTime
URL:https://sceniccitycigars.com/event/rob-christines-birthday-party/
LOCATION:Scenic City Cigars\, 7912 E Brainerd Rd\, Chattanooga\, TN 37421\, Chattanooga\, TN\, 37421\, United States
ATTACH;FMTTYPE=image/png:https://sceniccitycigars.com/wp-content/uploads/2025/09/image1.png
END:VEVENT
BEGIN:VEVENT
DTSTART;TZID=America/New_York:20251003T170000
DTEND;TZID=America/New_York:20251003T220000
DTSTAMP:20260419T120204
CREATED:20250929T154823Z
LAST-MODIFIED:20250929T154823Z
UID:947-1759510800-1759528800@sceniccitycigars.com
SUMMARY:Oktoberfest Party!
DESCRIPTION:Oktoberfest Party \nFriday\, October 3rd\n5–10 PM \nGerman Buffet \n4-Flight Beer Tastings  \nGames: Wurst Toss & Stein Holding Contest\nWear your Lederhosen & Dirndls
URL:https://sceniccitycigars.com/event/oktoberfest-party/
LOCATION:Scenic City Cigars\, 7912 E Brainerd Rd\, Chattanooga\, TN 37421\, Chattanooga\, TN\, 37421\, United States
ATTACH;FMTTYPE=image/png:https://sceniccitycigars.com/wp-content/uploads/2025/09/Designer-4.png
END:VEVENT
BEGIN:VEVENT
DTSTART;TZID=America/New_York:20251011T150000
DTEND;TZID=America/New_York:20251011T230000
DTSTAMP:20260419T120204
CREATED:20251006T151459Z
LAST-MODIFIED:20251006T152243Z
UID:954-1760194800-1760223600@sceniccitycigars.com
SUMMARY:We are sponsoring an MMA fight again!
DESCRIPTION:🎸🥊 LIVE FIGHTS. FESTIVAL VIBES. ONE UNFORGETTABLE DAY. 🥊🎸 \nANF: Rhythm & Bruise is BACK and we’re going even bigger this time! Join us Saturday\, October 11\, 2025 at Camp Columbus in Hixson\, TN for a full-day fight festival like no other. \n👊 LIVE Amateur MMA Fights\n🎶 Local Bands Performing\n🌮 Food Trucks & Local Vendors\n🎟️ All Ages Welcome! Family Friendly + ages 5 & under are FREE \n📍 Camp Columbus • Hixson\, TN\n🕚 Gates Open: 12PM (ET)\n🥊 First Fight: 4PM (ET) \nWhether you’re a fight fan\, music lover\, or just looking for a unique way to spend your Saturday\, this is the place to be. \n💥 Come for the action. Stay for the vibe. Support local fighters\, artists\, & small businesses all in one place. \n🎫 Tickets are on sale now! Follow us to stay tuned for updates!\n📣 Sponsorship and vendor opportunities available. \nPrice: $30 general admission\, kids 5 & under free
URL:https://sceniccitycigars.com/event/we-are-sponsoring-an-mma-fight-again/
LOCATION:Camp Columbus\, 8601 CAMP COLUMBUS ROAD\, HIXSON\, TN\, 37343
ATTACH;FMTTYPE=image/jpeg:https://sceniccitycigars.com/wp-content/uploads/2025/10/inbound3532814199085413979_420FDC22-05DA-838A-438E60CAEC86AC72_4219a535-db3a-14f2-52ea5e5a692a6231.jpg
END:VEVENT
BEGIN:VEVENT
DTSTART;TZID=America/New_York:20251016T183000
DTEND;TZID=America/New_York:20251016T203000
DTSTAMP:20260419T120204
CREATED:20251006T145831Z
LAST-MODIFIED:20251006T145831Z
UID:951-1760639400-1760646600@sceniccitycigars.com
SUMMARY:Ladies' Night: Sip\, Smoke & Savor - Tequila Night
DESCRIPTION:Ladies’ Night: Sip\, Smoke & Savor! \n“Tequila + cigars = the kind of therapy that comes with snacks and no co-pay.”  \n October 16\, 2025\n 6:30 PM\n Scenic City Cigars & Social \nCitrus wedges\, salt\, and glasses provided… just bring your favorite boutique bottle to share \nWe’ll have light snacks to pair with the pours \nLet’s sip\, smoke\, and savor the night away!  \nBring your besties because the group chat needs new material!   \n#RealWivesofScenicCityCigars #RealLadiesofScenicCityCigars #LadiesNight #SipSmokeSavor #TequilaTasting #CigarLoungeVibes #BoutiqueTequila #GirlsWhoSmokeCigars #CigarQueens #CigarChic #CigarAndTequilaCrew #CigarNightOut
URL:https://sceniccitycigars.com/event/ladies-night-sip-smoke-savor-tequila-night/
LOCATION:Scenic City Cigars\, 7912 E Brainerd Rd\, Chattanooga\, TN 37421\, Chattanooga\, TN\, 37421\, United States
ATTACH;FMTTYPE=image/jpeg:https://sceniccitycigars.com/wp-content/uploads/2025/10/image001.png@01DC3376.E1CB0B10.jpg
END:VEVENT
BEGIN:VEVENT
DTSTART;TZID=America/New_York:20251113T180000
DTEND;TZID=America/New_York:20251113T210000
DTSTAMP:20260419T120204
CREATED:20251104T145007Z
LAST-MODIFIED:20251104T145007Z
UID:958-1763056800-1763067600@sceniccitycigars.com
SUMMARY:Ladies Night - Paint\, Sip & Smoke
DESCRIPTION:Ladies Night: Paint\, Sip & Smoke!  \n Wednesday\, Nov 13th | 6PM \n $25 | Limited to 12 spots! \nGet ready for a cozy creative night at Scenic City Cigars — we’ll have our very own local artist\, Ashley Evans\, guiding us through the process. We will be painting cigar boxes with a winter scene \, sipping something smooth \, and enjoying a select cigar included with your ticket! \nAll materials are provided — just bring your good vibes\, your favorite drink\, and your best laugh  \n Spots are limited\, so grab your tickets! \n Tag your girls who need a night out — because let’s be honest\, therapy is expensive but cigars\, paint & laughs are only $25!  \n#LadiesNight #PaintSipSmoke #ScenicCityCigars #CigarLadies #ChattanoogaEvents #GirlsNightOut #CigarLife #CigarLoungeVibes
URL:https://sceniccitycigars.com/event/ladies-night-paint-sip-smoke-2/
LOCATION:Scenic City Cigars\, 7912 E Brainerd Rd\, Chattanooga\, TN 37421\, Chattanooga\, TN\, 37421\, United States
ATTACH;FMTTYPE=image/png:https://sceniccitycigars.com/wp-content/uploads/2025/11/Ladies-Night-Nov-13-2025.png
END:VEVENT
BEGIN:VEVENT
DTSTART;TZID=America/New_York:20251118T170000
DTEND;TZID=America/New_York:20251118T200000
DTSTAMP:20260419T120204
CREATED:20251104T145737Z
LAST-MODIFIED:20251104T145737Z
UID:961-1763485200-1763496000@sceniccitycigars.com
SUMMARY:Ferio Tego Event!
DESCRIPTION:Come meet owner and founder of Ferio Tego Cigars\, Michael Herklots\, on this special Tuesday evening event to learn more about the brand and the people behind it. Plus\, one of our favorites\, Garrett\, will be here as well\, so that’s worth the trip just by itself. \nWe will be smoking the brand together\, learning from the mouth of the man who created it\, and having special deals all night!
URL:https://sceniccitycigars.com/event/ferio-tego-event/
LOCATION:Scenic City Cigars\, 7912 E Brainerd Rd\, Chattanooga\, TN 37421\, Chattanooga\, TN\, 37421\, United States
ATTACH;FMTTYPE=image/png:https://sceniccitycigars.com/wp-content/uploads/2025/11/2.png
END:VEVENT
BEGIN:VEVENT
DTSTART;TZID=America/New_York:20251127T140000
DTEND;TZID=America/New_York:20251127T220000
DTSTAMP:20260419T120204
CREATED:20251104T150044Z
LAST-MODIFIED:20251104T150044Z
UID:964-1764252000-1764280800@sceniccitycigars.com
SUMMARY:Friendsgiving
DESCRIPTION:Shake & Bake Friendsgiving!  \n\n\n  \nDate: Thursday\, November 27th \nTime: 1:00 PM – 10:00 PM \nLocation: Scenic City Cigars – “The Pit Stop” \nTheme: Racing meets Thanksgiving \nPot Lock: Traditional Thanksgiving Southern-style dishes. Bring a dish that Ricky Robby would approve of! \nBonus Points: Wear your best racing gear or Talladega-inspired outfit!
URL:https://sceniccitycigars.com/event/friendsgiving/
LOCATION:Scenic City Cigars\, 7912 E Brainerd Rd\, Chattanooga\, TN 37421\, Chattanooga\, TN\, 37421\, United States
ATTACH;FMTTYPE=image/png:https://sceniccitycigars.com/wp-content/uploads/2025/11/Friendsgiving-2025.png
END:VEVENT
BEGIN:VEVENT
DTSTART;TZID=America/New_York:20251129T180000
DTEND;TZID=America/New_York:20251129T220000
DTSTAMP:20260419T120204
CREATED:20251104T150327Z
LAST-MODIFIED:20251104T150327Z
UID:967-1764439200-1764453600@sceniccitycigars.com
SUMMARY:Bib's Birthday Bash
DESCRIPTION: BIBS’S BIRTHDAY BASH ALERT  \n  \nJoin us in celebrating the one and only Becky “Bibs”!  \n  \n Saturday\, November 29th\n 5:00 PM \n  \nCome party with one of your FAVORITE people and help us celebrate a true legend!  \n  \n DRESS CODE: Wear your “bibs” or overalls in honor of the birthday queen! \n  \nWhat to expect: \n\n Birthday cake (because duh!)\n Good vibes only (HEY!)\n Becky’s favorite signature cigar – FEATURED & DISCOUNTED for the occasion! \n  \nDon’t miss this chance to celebrate with Bibs herself!  \n  \nSee you there!  \n  \n#BirthdayBibs #BibsDay #OverallsRequired #LegendStatus #BirthdayBash #CelebrateBecky
URL:https://sceniccitycigars.com/event/bibs-birthday-bash/
LOCATION:Scenic City Cigars\, 7912 E Brainerd Rd\, Chattanooga\, TN 37421\, Chattanooga\, TN\, 37421\, United States
ATTACH;FMTTYPE=image/png:https://sceniccitycigars.com/wp-content/uploads/2025/11/Beckys-Birthday-Bash.png
END:VEVENT
END:VCALENDAR