BEGIN:VCALENDAR
VERSION:2.0
PRODID:-//Scenic City Cigars - ECPv6.15.20//NONSGML v1.0//EN
CALSCALE:GREGORIAN
METHOD:PUBLISH
X-WR-CALNAME:Scenic City Cigars
X-ORIGINAL-URL:https://sceniccitycigars.com
X-WR-CALDESC:Events for Scenic City Cigars
REFRESH-INTERVAL;VALUE=DURATION:PT1H
X-Robots-Tag:noindex
X-PUBLISHED-TTL:PT1H
BEGIN:VTIMEZONE
TZID:America/New_York
BEGIN:DAYLIGHT
TZOFFSETFROM:-0500
TZOFFSETTO:-0400
TZNAME:EDT
DTSTART:20230312T070000
END:DAYLIGHT
BEGIN:STANDARD
TZOFFSETFROM:-0400
TZOFFSETTO:-0500
TZNAME:EST
DTSTART:20231105T060000
END:STANDARD
BEGIN:DAYLIGHT
TZOFFSETFROM:-0500
TZOFFSETTO:-0400
TZNAME:EDT
DTSTART:20240310T070000
END:DAYLIGHT
BEGIN:STANDARD
TZOFFSETFROM:-0400
TZOFFSETTO:-0500
TZNAME:EST
DTSTART:20241103T060000
END:STANDARD
BEGIN:DAYLIGHT
TZOFFSETFROM:-0500
TZOFFSETTO:-0400
TZNAME:EDT
DTSTART:20250309T070000
END:DAYLIGHT
BEGIN:STANDARD
TZOFFSETFROM:-0400
TZOFFSETTO:-0500
TZNAME:EST
DTSTART:20251102T060000
END:STANDARD
BEGIN:DAYLIGHT
TZOFFSETFROM:-0500
TZOFFSETTO:-0400
TZNAME:EDT
DTSTART:20260308T070000
END:DAYLIGHT
BEGIN:STANDARD
TZOFFSETFROM:-0400
TZOFFSETTO:-0500
TZNAME:EST
DTSTART:20261101T060000
END:STANDARD
END:VTIMEZONE
BEGIN:VEVENT
DTSTART;TZID=America/New_York:20241231T200000
DTEND;TZID=America/New_York:20250101T010000
DTSTAMP:20260419T155452
CREATED:20241205T170921Z
LAST-MODIFIED:20241205T170921Z
UID:823-1735675200-1735693200@sceniccitycigars.com
SUMMARY:Casino Royale NYE Party
DESCRIPTION:Join us for a decadent and glamorous New Year’s Eve Party that take you straight to Vegas without a flight. Tickets are $75 per person and include: \n\n-Buffett with premium Vegas style foods\n-Gourmet Desserts\n-Martini Bar- set-ups only (BYOB)\n-1 select Oliva Cigar\n-Party favors for the countdown\n-Prizes from Oliva\n\nAttire is Vegas Chic and colors include black\, silver\, and red. (Suits and Gowns are encouraged.)
URL:https://sceniccitycigars.com/event/casino-royale-nye-party/
LOCATION:Scenic City Cigars\, 7912 E Brainerd Rd\, Chattanooga\, TN 37421\, Chattanooga\, TN\, 37421\, United States
ATTACH;FMTTYPE=image/jpeg:https://sceniccitycigars.com/wp-content/uploads/2024/12/NYE-Party.jpg
END:VEVENT
BEGIN:VEVENT
DTSTART;TZID=America/New_York:20241225T150000
DTEND;TZID=America/New_York:20241225T220000
DTSTAMP:20260419T155452
CREATED:20241219T203218Z
LAST-MODIFIED:20241219T203218Z
UID:827-1735138800-1735164000@sceniccitycigars.com
SUMMARY:Christmas Day Potluck
DESCRIPTION:We’re open on Christmas Day! Come hang with Rachel and bring a dish to share. All are welcome.
URL:https://sceniccitycigars.com/event/christmas-day-potluck/
LOCATION:Scenic City Cigars\, 7912 E Brainerd Rd\, Chattanooga\, TN 37421\, Chattanooga\, TN\, 37421\, United States
ATTACH;FMTTYPE=image/jpeg:https://sceniccitycigars.com/wp-content/uploads/2024/12/Christmas-Potluck-event.jpg
END:VEVENT
BEGIN:VEVENT
DTSTART;TZID=America/New_York:20241221T180000
DTEND;TZID=America/New_York:20241221T220000
DTSTAMP:20260419T155452
CREATED:20241205T165246Z
LAST-MODIFIED:20241205T165246Z
UID:820-1734804000-1734818400@sceniccitycigars.com
SUMMARY:All Black Party
DESCRIPTION:Join us in your all black attire for a party you don’t want to miss! we’ll have a DJ\, buffet\, pictures\, and more! Come celebrate the season with your cigar family! (Contact Pam Cole for more information.)
URL:https://sceniccitycigars.com/event/all-black-party/
LOCATION:Scenic City Cigars\, 7912 E Brainerd Rd\, Chattanooga\, TN 37421\, Chattanooga\, TN\, 37421\, United States
ATTACH;FMTTYPE=image/jpeg:https://sceniccitycigars.com/wp-content/uploads/2024/12/Black-Party.jpg
END:VEVENT
BEGIN:VEVENT
DTSTART;TZID=America/New_York:20241210T183000
DTEND;TZID=America/New_York:20241210T203000
DTSTAMP:20260419T155452
CREATED:20241203T182931Z
LAST-MODIFIED:20241203T183031Z
UID:816-1733855400-1733862600@sceniccitycigars.com
SUMMARY:Steak & Cigars Dinner at No. 10
DESCRIPTION:You’re invited to join us for a night of indulgence at No.10 Steakhouse for a delicious steak dinner paired with fine cigars! \nWe’ll dine on the heated patio at Number Ten where we will be serving up a delicious 3-course meal that includes wine pairings and two premium cigars. Yes\, you can smoke during dinner! This dinner is a cigar lover’s dream and will be filled with great food\, good company\, and a touch of luxury. Our Steak & Cigars Dinner will be the perfect evening for anyone looking to unwind and enjoy the finer things in life. Don’t miss out on this unique dining experience! \nTickets are $125 plus tax. \nPurchase your tickets here!
URL:https://sceniccitycigars.com/event/steak-cigars-dinner-at-no-10/
LOCATION:Number 10\, 1925 Myrtle St STE 101\, Chattanooga\, 37408\, United States
ATTACH;FMTTYPE=image/jpeg:https://sceniccitycigars.com/wp-content/uploads/2024/12/Eventbrite.jpg
END:VEVENT
BEGIN:VEVENT
DTSTART;TZID=America/New_York:20241207T180000
DTEND;TZID=America/New_York:20241207T210000
DTSTAMP:20260419T155452
CREATED:20241114T190227Z
LAST-MODIFIED:20241114T190227Z
UID:810-1733594400-1733605200@sceniccitycigars.com
SUMMARY:Green Grouch Christmas Party with Espinosa
DESCRIPTION:Join us in Chattanoogaville with “Gavinrich” of Espinosa cigars!  Hear Rob tell the tale  of “How Gavinrich stole cigars from Scenic City Cigars in Chattanoogaville.” \nDress as your favorite Christmas character for a costume contest and bring a festive treat to share for a green and red foods potluck.
URL:https://sceniccitycigars.com/event/green-grouch-christmas-party-with-espinosa/
LOCATION:Scenic City Cigars\, 7912 E Brainerd Rd\, Chattanooga\, TN 37421\, Chattanooga\, TN\, 37421\, United States
ATTACH;FMTTYPE=image/jpeg:https://sceniccitycigars.com/wp-content/uploads/2024/11/Grinch-event.jpg
END:VEVENT
BEGIN:VEVENT
DTSTART;TZID=America/New_York:20241130T140000
DTEND;TZID=America/New_York:20241130T170000
DTSTAMP:20260419T155452
CREATED:20241114T175817Z
LAST-MODIFIED:20241114T175817Z
UID:804-1732975200-1732986000@sceniccitycigars.com
SUMMARY:St. Andrews Day Celebration
DESCRIPTION:Celebrate St. Andrew’s Day with Us! \nGet yer kilt oot\, and join us for a spirited celebration of Scottish heritage at Scenic City Cigars. \nEnjoy: \n\nScottish Cuisine Sampling: Delight in traditional Scottish flavors.\nMusic and Storytelling: Enjoy lively tunes and captivating tales.\nKilts Encouraged: Embrace the spirit and wear your kilts proudly!\n\nCome together for an afternoon of culture\, camaraderie\, and celebration. We look forward to seeing you there!
URL:https://sceniccitycigars.com/event/st-andrews-day-celebration/
LOCATION:Scenic City Cigars\, 7912 E Brainerd Rd\, Chattanooga\, TN 37421\, Chattanooga\, TN\, 37421\, United States
ATTACH;FMTTYPE=image/jpeg:https://sceniccitycigars.com/wp-content/uploads/2024/11/St-Andrews-event.jpg
END:VEVENT
BEGIN:VEVENT
DTSTART;TZID=America/New_York:20241128T140000
DTEND;TZID=America/New_York:20241128T220000
DTSTAMP:20260419T155452
CREATED:20241114T180046Z
LAST-MODIFIED:20241121T183155Z
UID:807-1732802400-1732831200@sceniccitycigars.com
SUMMARY:Friendsgiving Potluck
DESCRIPTION:Bring a dish to share and celebrate Thanksgiving with your cigar family. All are welcomed! \nLounge opens at 2:00. Buffet opens at 3:00.
URL:https://sceniccitycigars.com/event/friendsgiving-potluck/
LOCATION:Scenic City Cigars\, 7912 E Brainerd Rd\, Chattanooga\, TN 37421\, Chattanooga\, TN\, 37421\, United States
ATTACH;FMTTYPE=image/jpeg:https://sceniccitycigars.com/wp-content/uploads/2024/11/Friendsgiving-Potluck.jpg
END:VEVENT
BEGIN:VEVENT
DTSTART;TZID=America/New_York:20241121T190000
DTEND;TZID=America/New_York:20241121T210000
DTSTAMP:20260419T155452
CREATED:20241114T174806Z
LAST-MODIFIED:20241118T162450Z
UID:801-1732215600-1732222800@sceniccitycigars.com
SUMMARY:Ladies Night Little Black Dress Party
DESCRIPTION:Ladies\, you’re invited to a Little Black Dress Party! Enjoy:\n– Complementary charcuterie board bites\n– Free wine glass for the first 10 ladies that show up at 7:00 and purchase the featured cigar\n– Featured cigar: Arturo Fuente Hemingway
URL:https://sceniccitycigars.com/event/ladies-night-little-black-dress-party/
LOCATION:Scenic City Cigars\, 7912 E Brainerd Rd\, Chattanooga\, TN 37421\, Chattanooga\, TN\, 37421\, United States
ATTACH;FMTTYPE=image/jpeg:https://sceniccitycigars.com/wp-content/uploads/2024/11/LBD-Event.jpg
END:VEVENT
BEGIN:VEVENT
DTSTART;TZID=America/New_York:20241116T180000
DTEND;TZID=America/New_York:20241116T210000
DTSTAMP:20260419T155452
CREATED:20241105T183048Z
LAST-MODIFIED:20241105T183255Z
UID:795-1731780000-1731790800@sceniccitycigars.com
SUMMARY:Drew Estate Hot Dog Contest
DESCRIPTION:Join everyone’s favorite Drew Estate Rep. Kyle Davis\, for a hot dog contest! Roast your dog over the fire and be judged for Most Creative Hot Dog. (Hot dogs and buns provided. You must bring your own toppings to enter to win). \nThere’ll be lots of Drew Estate cigar specials and tons of swag! Everybody’s a weiner at this one!
URL:https://sceniccitycigars.com/event/drew-estate-hot-dog-contest/
LOCATION:Scenic City Cigars\, 7912 E Brainerd Rd\, Chattanooga\, TN 37421\, Chattanooga\, TN\, 37421\, United States
ATTACH;FMTTYPE=image/jpeg:https://sceniccitycigars.com/wp-content/uploads/2024/11/Drew-Estate-event.jpg
END:VEVENT
BEGIN:VEVENT
DTSTART;TZID=America/New_York:20241031T180000
DTEND;TZID=America/New_York:20241031T210000
DTSTAMP:20260419T155452
CREATED:20240930T183049Z
LAST-MODIFIED:20241022T194116Z
UID:780-1730397600-1730408400@sceniccitycigars.com
SUMMARY:Halloween with Blackbird Cigars
DESCRIPTION:Join Miyagi Montes of Blackbird Cigars for Halloween specials with spooky cigars\, featuring the Superb. \nEvent Specials: Buy 5 get 1 free
URL:https://sceniccitycigars.com/event/halloween-with-blackbird-cigars/
LOCATION:Scenic City Cigars\, 7912 E Brainerd Rd\, Chattanooga\, TN 37421\, Chattanooga\, TN\, 37421\, United States
ATTACH;FMTTYPE=image/jpeg:https://sceniccitycigars.com/wp-content/uploads/2024/09/Halloween-event.jpg
END:VEVENT
BEGIN:VEVENT
DTSTART;TZID=America/New_York:20241024T190000
DTEND;TZID=America/New_York:20241024T210000
DTSTAMP:20260419T155452
CREATED:20241001T170923Z
LAST-MODIFIED:20241001T171003Z
UID:783-1729796400-1729803600@sceniccitycigars.com
SUMMARY:Private Event: TN Cigars & Bourbon Society
DESCRIPTION:We are CLOSING EARLY for a private charity event at 6:30 PM. Purchase tickets for the event here: https://bit.ly/TCBSoct24\n  \nJoin us at Scenic City Cigars & Social for an evening of indulgence! Our private event will feature a delightful combination of premium cigars and top-notch bourbon\, expertly paired for your enjoyment. Learn about the intricate tasting notes of each cigar and bourbon\, and discover the art of pairing smokes like a pro.\n \nTicket Includes:– Choice of cigar from 2 options\,– 1 Glencairn glass\,– Mystery swag\, and spirit tasting.\n \nWhether you’re a seasoned aficionado or just starting your journey\, this event promises a memorable experience. Don’t miss this unique opportunity to elevate your palate and connect with fellow enthusiasts. See you there!
URL:https://sceniccitycigars.com/event/private-event-tn-cigars-bourbon-society/
LOCATION:Scenic City Cigars\, 7912 E Brainerd Rd\, Chattanooga\, TN 37421\, Chattanooga\, TN\, 37421\, United States
ATTACH;FMTTYPE=image/jpeg:https://sceniccitycigars.com/wp-content/uploads/2024/10/Bourbon-Society.jpg
END:VEVENT
BEGIN:VEVENT
DTSTART;TZID=America/New_York:20241017T180000
DTEND;TZID=America/New_York:20241017T210000
DTSTAMP:20260419T155452
CREATED:20240930T180928Z
LAST-MODIFIED:20240930T180928Z
UID:777-1729188000-1729198800@sceniccitycigars.com
SUMMARY:Ladies Night
DESCRIPTION:Ladies\, join us for a Smoke & Craft event with our friend Raquel Blanchard. \nMore details will follow.
URL:https://sceniccitycigars.com/event/ladies-night-3/
LOCATION:Scenic City Cigars\, 7912 E Brainerd Rd\, Chattanooga\, TN 37421\, Chattanooga\, TN\, 37421\, United States
ATTACH;FMTTYPE=image/jpeg:https://sceniccitycigars.com/wp-content/uploads/2024/09/Ladies-Night-event-1.jpg
END:VEVENT
BEGIN:VEVENT
DTSTART;TZID=America/New_York:20241016T180000
DTEND;TZID=America/New_York:20241016T210000
DTSTAMP:20260419T155452
CREATED:20241010T174734Z
LAST-MODIFIED:20241010T174734Z
UID:789-1729101600-1729112400@sceniccitycigars.com
SUMMARY:Oktoberfest Beer Pairing
DESCRIPTION:If you’re dying to see Rob and Chris in Lederhosen\, this is the event for you! Celebrate Oktoberfest with us and enjoy a flight of three German beers expertly paired with a cigar. Grab your bier stein and yodel your way over!
URL:https://sceniccitycigars.com/event/oktoberfest-beer-pairing/
LOCATION:Scenic City Cigars\, 7912 E Brainerd Rd\, Chattanooga\, TN 37421\, Chattanooga\, TN\, 37421\, United States
ATTACH;FMTTYPE=image/jpeg:https://sceniccitycigars.com/wp-content/uploads/2024/10/Oktoberfest-event.jpg
END:VEVENT
BEGIN:VEVENT
DTSTART;TZID=America/New_York:20241008T180000
DTEND;TZID=America/New_York:20241008T210000
DTSTAMP:20260419T155452
CREATED:20240930T170343Z
LAST-MODIFIED:20240930T170343Z
UID:772-1728410400-1728421200@sceniccitycigars.com
SUMMARY:Camacho Tasting Event
DESCRIPTION:Join us for an educational experience for the discerning cigar smoker. If you’d like learn more about cigars and improve your palate this is the event for you! \nEvent Specials: Buy 2 assortment packs and get a table top lighter. \n 
URL:https://sceniccitycigars.com/event/camacho-tasting-event/
LOCATION:Scenic City Cigars\, 7912 E Brainerd Rd\, Chattanooga\, TN 37421\, Chattanooga\, TN\, 37421\, United States
ATTACH;FMTTYPE=image/jpeg:https://sceniccitycigars.com/wp-content/uploads/2024/09/Camacho-event.jpg
END:VEVENT
BEGIN:VEVENT
DTSTART;TZID=America/New_York:20240928T180000
DTEND;TZID=America/New_York:20240928T210000
DTSTAMP:20260419T155452
CREATED:20240909T174500Z
LAST-MODIFIED:20240909T174751Z
UID:761-1727546400-1727557200@sceniccitycigars.com
SUMMARY:Rob and Christine's 70's Disco Birthday Party
DESCRIPTION:“Get Down Tonight” at Rob & Christine’s Disco Birthday Party! Wear your best Saturday Night Fever inspired attire for a Best Dressed Contest. (Think: glimmering sequins\, polyester suits\, eye-popping hues\, and platform shoes.) \nThere will be a complimentary buffet and desserts served.
URL:https://sceniccitycigars.com/event/rob-and-christines-disco-party/
LOCATION:Scenic City Cigars\, 7912 E Brainerd Rd\, Chattanooga\, TN 37421\, Chattanooga\, TN\, 37421\, United States
ATTACH;FMTTYPE=image/jpeg:https://sceniccitycigars.com/wp-content/uploads/2024/09/Birthday-event.jpg
END:VEVENT
BEGIN:VEVENT
DTSTART;TZID=America/New_York:20240919T180000
DTEND;TZID=America/New_York:20240919T210000
DTSTAMP:20260419T155452
CREATED:20240909T172504Z
LAST-MODIFIED:20240909T174858Z
UID:758-1726768800-1726779600@sceniccitycigars.com
SUMMARY:Ladies Night
DESCRIPTION:Ladies\, join us for a Smoke & Learn! Gary Roddy will present “Instruction to Handgun Safety”. Let’s enjoy some cigars\, make new friends\, and learn together!
URL:https://sceniccitycigars.com/event/ladies-night-2/
LOCATION:Scenic City Cigars\, 7912 E Brainerd Rd\, Chattanooga\, TN 37421\, Chattanooga\, TN\, 37421\, United States
ATTACH;FMTTYPE=image/jpeg:https://sceniccitycigars.com/wp-content/uploads/2024/09/Ladies-Night-event.jpg
END:VEVENT
BEGIN:VEVENT
DTSTART;TZID=America/New_York:20240907T180000
DTEND;TZID=America/New_York:20240907T210000
DTSTAMP:20260419T155452
CREATED:20240903T192354Z
LAST-MODIFIED:20240903T192354Z
UID:754-1725732000-1725742800@sceniccitycigars.com
SUMMARY:General Cigar Co.
DESCRIPTION:General Cigar Co will be in the house featuring CAO\, Cohiba\,Macanudo and Punch.\nEvent Specials:\n– Buy 3\, get 1 free– Buy 10\, get 3 free– More for box purchases– Swag at each level
URL:https://sceniccitycigars.com/event/general-cigar-co/
LOCATION:Scenic City Cigars\, 7912 E Brainerd Rd\, Chattanooga\, TN 37421\, Chattanooga\, TN\, 37421\, United States
ATTACH;FMTTYPE=image/jpeg:https://sceniccitycigars.com/wp-content/uploads/2024/09/General-Event.jpg
END:VEVENT
BEGIN:VEVENT
DTSTART;TZID=America/New_York:20240830T170000
DTEND;TZID=America/New_York:20240830T210000
DTSTAMP:20260419T155452
CREATED:20240730T180426Z
LAST-MODIFIED:20240827T170233Z
UID:691-1725037200-1725051600@sceniccitycigars.com
SUMMARY:White Party with Illusione
DESCRIPTION:Join us for an all-white launch party with Illusione Cigars! Best Dressed awards will be presented\, plus we’ll have a white foods potluck. \nEvent Specials: \n– Buy 4 cigars get 1 free \n– Buy 10 cigars\, get three free and a swag item
URL:https://sceniccitycigars.com/event/white-party-with-illusione/
LOCATION:Scenic City Cigars\, 7912 E Brainerd Rd\, Chattanooga\, TN 37421\, Chattanooga\, TN\, 37421\, United States
ATTACH;FMTTYPE=image/jpeg:https://sceniccitycigars.com/wp-content/uploads/2024/07/White-Party-event.jpg
END:VEVENT
BEGIN:VEVENT
DTSTART;TZID=America/New_York:20240815T190000
DTEND;TZID=America/New_York:20240815T210000
DTSTAMP:20260419T155452
CREATED:20240725T170528Z
LAST-MODIFIED:20240729T201155Z
UID:684-1723748400-1723755600@sceniccitycigars.com
SUMMARY:Ladies Night with Zennia Spa
DESCRIPTION:Spa services and cigars? Yes\, please! Join Rebecca and the Zennia Spa team for a pampering cigar experience: \n– Chair massages ($2.00 per minute) \n– Nail art printer ($7 per nail) \n(Spa services are open to all customers) \nEvent Specials: \n– 20% off your choice of two selected cigars\n– 20% off a select beer\n– 15% all other purchases (some exclusions apply)
URL:https://sceniccitycigars.com/event/ladies-night-with-zennia-spa/
LOCATION:Scenic City Cigars\, 7912 E Brainerd Rd\, Chattanooga\, TN 37421\, Chattanooga\, TN\, 37421\, United States
ATTACH;FMTTYPE=image/jpeg:https://sceniccitycigars.com/wp-content/uploads/2024/07/Ladies-Night-event-1.jpg
END:VEVENT
BEGIN:VEVENT
DTSTART;TZID=America/New_York:20240807T180000
DTEND;TZID=America/New_York:20240807T210000
DTSTAMP:20260419T155452
CREATED:20240723T172817Z
LAST-MODIFIED:20240729T201218Z
UID:678-1723053600-1723064400@sceniccitycigars.com
SUMMARY:Casdagli Cigars
DESCRIPTION:Join Founder & Co-owner of Casdagli Cigars\, Jeremy Nicholas Casdagli\, for an opportunity to learn first-hand about the company and its cigars. \nEvent Special: Buy 5 cigars and get 1 free
URL:https://sceniccitycigars.com/event/casdagli-cigars/
LOCATION:Scenic City Cigars\, 7912 E Brainerd Rd\, Chattanooga\, TN 37421\, Chattanooga\, TN\, 37421\, United States
ATTACH;FMTTYPE=image/jpeg:https://sceniccitycigars.com/wp-content/uploads/2024/07/Casdagli-Event.jpg
END:VEVENT
BEGIN:VEVENT
DTSTART;TZID=America/New_York:20240802T180000
DTEND;TZID=America/New_York:20240802T210000
DTSTAMP:20260419T155452
CREATED:20240722T195211Z
LAST-MODIFIED:20240722T195211Z
UID:675-1722621600-1722632400@sceniccitycigars.com
SUMMARY:Zino 2024 Tour
DESCRIPTION:Zino Cigars is bringing the summer oasis to you! Join us for a Zino Summer All-Year Long Experience featuring exclusive promotions and branded giveaways.
URL:https://sceniccitycigars.com/event/zino-2024-tour/
LOCATION:Scenic City Cigars\, 7912 E Brainerd Rd\, Chattanooga\, TN 37421\, Chattanooga\, TN\, 37421\, United States
ATTACH;FMTTYPE=image/jpeg:https://sceniccitycigars.com/wp-content/uploads/2024/07/Zino-event.jpg
END:VEVENT
BEGIN:VEVENT
DTSTART;TZID=America/New_York:20240730T183000
DTEND;TZID=America/New_York:20240730T203000
DTSTAMP:20260419T155452
CREATED:20240723T173310Z
LAST-MODIFIED:20240723T173310Z
UID:681-1722364200-1722371400@sceniccitycigars.com
SUMMARY:Karaoke Night
DESCRIPTION:Get in touch with your inner American Idol every other Tuesday night beginning July 30. Pick your favorite song(s)\, practice your best moves\, and let’s sing the night away!
URL:https://sceniccitycigars.com/event/karaoke-night-2/
LOCATION:Scenic City Cigars\, 7912 E Brainerd Rd\, Chattanooga\, TN 37421\, Chattanooga\, TN\, 37421\, United States
ATTACH;FMTTYPE=image/jpeg:https://sceniccitycigars.com/wp-content/uploads/2024/07/Karaoke_reoccuring.jpg
END:VEVENT
BEGIN:VEVENT
DTSTART;TZID=America/New_York:20240720T120000
DTEND;TZID=America/New_York:20240720T210000
DTSTAMP:20260419T155452
CREATED:20240702T173045Z
LAST-MODIFIED:20240709T191242Z
UID:659-1721476800-1721509200@sceniccitycigars.com
SUMMARY:One-Year Anniversary Celebration (Saturday)
DESCRIPTION:Day two of our one-year anniversary celebration brings La Galera Cigars from 12:00 – 4:00 and Foundation Cigars from 5:00 – 9:00. \nLa Galera Event Specials: \n-Buy 5 cigars and get 1 free \n-Buy 8 cigars and get 2 free \n-Buy a box and get 5 free and swag \nFoundation Event Specials:  \n-Buy 5 cigars and get 1 free \n-Buy 10 cigars and get 2 free and swag \n-Buy 20 cigars and get 5 free with two swag items
URL:https://sceniccitycigars.com/event/one-year-anniversary-celebration-saturday/
LOCATION:Scenic City Cigars\, 7912 E Brainerd Rd\, Chattanooga\, TN 37421\, Chattanooga\, TN\, 37421\, United States
ATTACH;FMTTYPE=image/jpeg:https://sceniccitycigars.com/wp-content/uploads/2024/07/Anniversary-Saturday.jpg
END:VEVENT
BEGIN:VEVENT
DTSTART;TZID=America/New_York:20240719T170000
DTEND;TZID=America/New_York:20240719T210000
DTSTAMP:20260419T155452
CREATED:20240702T173437Z
LAST-MODIFIED:20240709T191036Z
UID:664-1721408400-1721422800@sceniccitycigars.com
SUMMARY:One-Year Anniversary Celebration (Friday)
DESCRIPTION:Celebrate our one-year anniversary with us! On Friday\, we’ll have Crowned Heads Cigars with us for cigar specials\, giveaways\, and more! \nEvent Specials: \n-Buy 4 cigars get 1 free \n-Buy 10 cigars get 3 free and a hat \n-Buy 20 cigars get 6 free and a hat
URL:https://sceniccitycigars.com/event/one-year-anniversary-celebration-friday/
LOCATION:Scenic City Cigars\, 7912 E Brainerd Rd\, Chattanooga\, TN 37421\, Chattanooga\, TN\, 37421\, United States
ATTACH;FMTTYPE=image/jpeg:https://sceniccitycigars.com/wp-content/uploads/2024/07/Aniversary-Friday.jpg
END:VEVENT
BEGIN:VEVENT
DTSTART;TZID=America/New_York:20240709T183000
DTEND;TZID=America/New_York:20240709T203000
DTSTAMP:20260419T155452
CREATED:20240702T172515Z
LAST-MODIFIED:20240702T175507Z
UID:656-1720549800-1720557000@sceniccitycigars.com
SUMMARY:Karaoke Night
DESCRIPTION:Join Curtis Danz and DJ Love Monkey for our first official karaoke night!
URL:https://sceniccitycigars.com/event/karaoke-night/
LOCATION:Scenic City Cigars\, 7912 E Brainerd Rd\, Chattanooga\, TN 37421\, Chattanooga\, TN\, 37421\, United States
ATTACH;FMTTYPE=image/jpeg:https://sceniccitycigars.com/wp-content/uploads/2024/07/Karaoke.jpg
END:VEVENT
BEGIN:VEVENT
DTSTART;TZID=America/New_York:20240629T170000
DTEND;TZID=America/New_York:20240629T200000
DTSTAMP:20260419T155452
CREATED:20240603T204414Z
LAST-MODIFIED:20240603T204414Z
UID:636-1719680400-1719691200@sceniccitycigars.com
SUMMARY:Pool Party with Dunbarton Tobacco & Trust
DESCRIPTION:Get your swim trunks and floaties ready\, and join us for a pool party to celebrate summer with Dunbarton Tobacco & Trust! Dave Lafferty\, the Vice President of Sales for Dunbarton Tobacco & Trust\, will be here with cigar specials for a fun-filled night. \nDunbarton Tobacco & Trust is a brand that demands excellence in their cigars\, and that is reflected in sticks such as Red Meat Lover\, Sobremesa\, Mi Querida and more. Dunbarton Cigars are a great pairing for relaxing with new and old friends. \nCome out and see what Dave has to offer as we enjoy this amazing brand together.
URL:https://sceniccitycigars.com/event/pool-party-with-dunbarton-tobacco-trust/
LOCATION:Scenic City Cigars\, 7912 E Brainerd Rd\, Chattanooga\, TN 37421\, Chattanooga\, TN\, 37421\, United States
ATTACH;FMTTYPE=image/jpeg:https://sceniccitycigars.com/wp-content/uploads/2024/06/Dunbarton-Event.jpg
END:VEVENT
BEGIN:VEVENT
DTSTART;TZID=America/New_York:20240619T170000
DTEND;TZID=America/New_York:20240619T210000
DTSTAMP:20260419T155452
CREATED:20240603T203752Z
LAST-MODIFIED:20240618T152328Z
UID:633-1718816400-1718830800@sceniccitycigars.com
SUMMARY:Juneteenth Potluck with Howard G. Cigars
DESCRIPTION:Celebrate freedom for all! We’re excited to have Virgil Henderson of Howard G.Cigars hosting the celebration. We’ll have: \n\n– Music by DJ: AJ Stylz of Triple Ace Entertainment\n– Howard G. Cigars onsite\n– A Potluck\n– Toast’d Up Food truck\n\nA portion of sales will benefit 100 Black Men of Bradley County. \n100 Black Men of Bradley County seeks to improve the quality of life for individuals and families through: Mentoring\, Scholarships\, Economic Development and Health and Wellness initiatives. \nEvent Specials: \n\n– Buy 3 cigars\, get 1 free\n– Buy 5 cigars\, get 2 free\n– Buy 10 cigars\, get 3 free\n– Swag giveaways!
URL:https://sceniccitycigars.com/event/juneteenth-potluck/
LOCATION:Scenic City Cigars\, 7912 E Brainerd Rd\, Chattanooga\, TN 37421\, Chattanooga\, TN\, 37421\, United States
ATTACH;FMTTYPE=image/jpeg:https://sceniccitycigars.com/wp-content/uploads/2024/06/Juneteenth-event.jpg
END:VEVENT
BEGIN:VEVENT
DTSTART;TZID=America/New_York:20240613T180000
DTEND;TZID=America/New_York:20240613T210000
DTSTAMP:20260419T155452
CREATED:20240603T203209Z
LAST-MODIFIED:20240604T173042Z
UID:630-1718301600-1718312400@sceniccitycigars.com
SUMMARY:June Ladies Night
DESCRIPTION:Join local artist Beth Rudolph (who is also Jason’s mom)\, for a crafty Ladies Night event! We’ll make cigar themed Father’s Day cards that can include any man in your life. Supplies will be provided but feel free to start collecting your favorite guy’s favorite cigar bands. \n$15 Includes: \n\n– Supplies to make one cigar themed Father’s Day Card\n– A Summer Beer\n– One select cigar
URL:https://sceniccitycigars.com/event/june-ladies-night/
LOCATION:Scenic City Cigars\, 7912 E Brainerd Rd\, Chattanooga\, TN 37421\, Chattanooga\, TN\, 37421\, United States
ATTACH;FMTTYPE=image/jpeg:https://sceniccitycigars.com/wp-content/uploads/2024/06/Ladies-Night_Event.jpg
END:VEVENT
BEGIN:VEVENT
DTSTART;TZID=America/New_York:20240523T180000
DTEND;TZID=America/New_York:20240523T210000
DTSTAMP:20260419T155452
CREATED:20240507T164348Z
LAST-MODIFIED:20240521T154238Z
UID:622-1716487200-1716498000@sceniccitycigars.com
SUMMARY:May Ladies Night
DESCRIPTION:Join us for an Italian themed Ladies Night. $10 includes 2 cigars\, a mocktail\, and a sweet treat for pairing! \nPlus Sherry Riggs with Victorious Closet a mobile boutique and will be onsite shopping.
URL:https://sceniccitycigars.com/event/may-ladies-night/
LOCATION:Scenic City Cigars\, 7912 E Brainerd Rd\, Chattanooga\, TN 37421\, Chattanooga\, TN\, 37421\, United States
ATTACH;FMTTYPE=image/jpeg:https://sceniccitycigars.com/wp-content/uploads/2024/05/Ladies-Night-FB.jpg
END:VEVENT
BEGIN:VEVENT
DTSTART;TZID=America/New_York:20240518T170000
DTEND;TZID=America/New_York:20240518T210000
DTSTAMP:20260419T155452
CREATED:20240507T163923Z
LAST-MODIFIED:20240507T171431Z
UID:616-1716051600-1716066000@sceniccitycigars.com
SUMMARY:Black Label Cigars
DESCRIPTION:Join us for a night with Black Label Cigars. “Black Label Trading Company creates hand crafted premium cigars of the utmost quality in small batch\, highly limited quantities. This allows us to meticulously select the finest tobacco from the richest tobacco-growing regions of Nicaragua\, Honduras\, Mexico and Ecuador. This allows our master blender\, expert growers and hand rollers to produce utterly unique cigars of unsurpassed quality and flavor. Finally\, this approach to cigar making replaces the standard cigar experience with the Black Label Cigar Experience.” \n– Buy 5 cigars get 1 free \n– Buy 10 cigars get 2 free \n– Buy 15 cigars get 3 free \n– Buy 20 cigars get 4 free \n– Box discounts & free swag with box purchase
URL:https://sceniccitycigars.com/event/black-label-cigars/
LOCATION:Scenic City Cigars\, 7912 E Brainerd Rd\, Chattanooga\, TN 37421\, Chattanooga\, TN\, 37421\, United States
ATTACH;FMTTYPE=image/jpeg:https://sceniccitycigars.com/wp-content/uploads/2024/05/Black-Label-FB-1.jpg
END:VEVENT
END:VCALENDAR