BEGIN:VCALENDAR
VERSION:2.0
PRODID:-//Scenic City Cigars - ECPv6.15.20//NONSGML v1.0//EN
CALSCALE:GREGORIAN
METHOD:PUBLISH
X-WR-CALNAME:Scenic City Cigars
X-ORIGINAL-URL:https://sceniccitycigars.com
X-WR-CALDESC:Events for Scenic City Cigars
REFRESH-INTERVAL;VALUE=DURATION:PT1H
X-Robots-Tag:noindex
X-PUBLISHED-TTL:PT1H
BEGIN:VTIMEZONE
TZID:America/New_York
BEGIN:DAYLIGHT
TZOFFSETFROM:-0500
TZOFFSETTO:-0400
TZNAME:EDT
DTSTART:20220313T070000
END:DAYLIGHT
BEGIN:STANDARD
TZOFFSETFROM:-0400
TZOFFSETTO:-0500
TZNAME:EST
DTSTART:20221106T060000
END:STANDARD
BEGIN:DAYLIGHT
TZOFFSETFROM:-0500
TZOFFSETTO:-0400
TZNAME:EDT
DTSTART:20230312T070000
END:DAYLIGHT
BEGIN:STANDARD
TZOFFSETFROM:-0400
TZOFFSETTO:-0500
TZNAME:EST
DTSTART:20231105T060000
END:STANDARD
BEGIN:DAYLIGHT
TZOFFSETFROM:-0500
TZOFFSETTO:-0400
TZNAME:EDT
DTSTART:20240310T070000
END:DAYLIGHT
BEGIN:STANDARD
TZOFFSETFROM:-0400
TZOFFSETTO:-0500
TZNAME:EST
DTSTART:20241103T060000
END:STANDARD
BEGIN:DAYLIGHT
TZOFFSETFROM:-0500
TZOFFSETTO:-0400
TZNAME:EDT
DTSTART:20250309T070000
END:DAYLIGHT
BEGIN:STANDARD
TZOFFSETFROM:-0400
TZOFFSETTO:-0500
TZNAME:EST
DTSTART:20251102T060000
END:STANDARD
END:VTIMEZONE
BEGIN:VEVENT
DTSTART;TZID=America/New_York:20240709T183000
DTEND;TZID=America/New_York:20240709T203000
DTSTAMP:20260419T165059
CREATED:20240702T172515Z
LAST-MODIFIED:20240702T175507Z
UID:656-1720549800-1720557000@sceniccitycigars.com
SUMMARY:Karaoke Night
DESCRIPTION:Join Curtis Danz and DJ Love Monkey for our first official karaoke night!
URL:https://sceniccitycigars.com/event/karaoke-night/
LOCATION:Scenic City Cigars\, 7912 E Brainerd Rd\, Chattanooga\, TN 37421\, Chattanooga\, TN\, 37421\, United States
ATTACH;FMTTYPE=image/jpeg:https://sceniccitycigars.com/wp-content/uploads/2024/07/Karaoke.jpg
END:VEVENT
BEGIN:VEVENT
DTSTART;TZID=America/New_York:20240629T170000
DTEND;TZID=America/New_York:20240629T200000
DTSTAMP:20260419T165059
CREATED:20240603T204414Z
LAST-MODIFIED:20240603T204414Z
UID:636-1719680400-1719691200@sceniccitycigars.com
SUMMARY:Pool Party with Dunbarton Tobacco & Trust
DESCRIPTION:Get your swim trunks and floaties ready\, and join us for a pool party to celebrate summer with Dunbarton Tobacco & Trust! Dave Lafferty\, the Vice President of Sales for Dunbarton Tobacco & Trust\, will be here with cigar specials for a fun-filled night. \nDunbarton Tobacco & Trust is a brand that demands excellence in their cigars\, and that is reflected in sticks such as Red Meat Lover\, Sobremesa\, Mi Querida and more. Dunbarton Cigars are a great pairing for relaxing with new and old friends. \nCome out and see what Dave has to offer as we enjoy this amazing brand together.
URL:https://sceniccitycigars.com/event/pool-party-with-dunbarton-tobacco-trust/
LOCATION:Scenic City Cigars\, 7912 E Brainerd Rd\, Chattanooga\, TN 37421\, Chattanooga\, TN\, 37421\, United States
ATTACH;FMTTYPE=image/jpeg:https://sceniccitycigars.com/wp-content/uploads/2024/06/Dunbarton-Event.jpg
END:VEVENT
BEGIN:VEVENT
DTSTART;TZID=America/New_York:20240619T170000
DTEND;TZID=America/New_York:20240619T210000
DTSTAMP:20260419T165059
CREATED:20240603T203752Z
LAST-MODIFIED:20240618T152328Z
UID:633-1718816400-1718830800@sceniccitycigars.com
SUMMARY:Juneteenth Potluck with Howard G. Cigars
DESCRIPTION:Celebrate freedom for all! We’re excited to have Virgil Henderson of Howard G.Cigars hosting the celebration. We’ll have: \n\n– Music by DJ: AJ Stylz of Triple Ace Entertainment\n– Howard G. Cigars onsite\n– A Potluck\n– Toast’d Up Food truck\n\nA portion of sales will benefit 100 Black Men of Bradley County. \n100 Black Men of Bradley County seeks to improve the quality of life for individuals and families through: Mentoring\, Scholarships\, Economic Development and Health and Wellness initiatives. \nEvent Specials: \n\n– Buy 3 cigars\, get 1 free\n– Buy 5 cigars\, get 2 free\n– Buy 10 cigars\, get 3 free\n– Swag giveaways!
URL:https://sceniccitycigars.com/event/juneteenth-potluck/
LOCATION:Scenic City Cigars\, 7912 E Brainerd Rd\, Chattanooga\, TN 37421\, Chattanooga\, TN\, 37421\, United States
ATTACH;FMTTYPE=image/jpeg:https://sceniccitycigars.com/wp-content/uploads/2024/06/Juneteenth-event.jpg
END:VEVENT
BEGIN:VEVENT
DTSTART;TZID=America/New_York:20240613T180000
DTEND;TZID=America/New_York:20240613T210000
DTSTAMP:20260419T165059
CREATED:20240603T203209Z
LAST-MODIFIED:20240604T173042Z
UID:630-1718301600-1718312400@sceniccitycigars.com
SUMMARY:June Ladies Night
DESCRIPTION:Join local artist Beth Rudolph (who is also Jason’s mom)\, for a crafty Ladies Night event! We’ll make cigar themed Father’s Day cards that can include any man in your life. Supplies will be provided but feel free to start collecting your favorite guy’s favorite cigar bands. \n$15 Includes: \n\n– Supplies to make one cigar themed Father’s Day Card\n– A Summer Beer\n– One select cigar
URL:https://sceniccitycigars.com/event/june-ladies-night/
LOCATION:Scenic City Cigars\, 7912 E Brainerd Rd\, Chattanooga\, TN 37421\, Chattanooga\, TN\, 37421\, United States
ATTACH;FMTTYPE=image/jpeg:https://sceniccitycigars.com/wp-content/uploads/2024/06/Ladies-Night_Event.jpg
END:VEVENT
BEGIN:VEVENT
DTSTART;TZID=America/New_York:20240523T180000
DTEND;TZID=America/New_York:20240523T210000
DTSTAMP:20260419T165059
CREATED:20240507T164348Z
LAST-MODIFIED:20240521T154238Z
UID:622-1716487200-1716498000@sceniccitycigars.com
SUMMARY:May Ladies Night
DESCRIPTION:Join us for an Italian themed Ladies Night. $10 includes 2 cigars\, a mocktail\, and a sweet treat for pairing! \nPlus Sherry Riggs with Victorious Closet a mobile boutique and will be onsite shopping.
URL:https://sceniccitycigars.com/event/may-ladies-night/
LOCATION:Scenic City Cigars\, 7912 E Brainerd Rd\, Chattanooga\, TN 37421\, Chattanooga\, TN\, 37421\, United States
ATTACH;FMTTYPE=image/jpeg:https://sceniccitycigars.com/wp-content/uploads/2024/05/Ladies-Night-FB.jpg
END:VEVENT
BEGIN:VEVENT
DTSTART;TZID=America/New_York:20240518T170000
DTEND;TZID=America/New_York:20240518T210000
DTSTAMP:20260419T165059
CREATED:20240507T163923Z
LAST-MODIFIED:20240507T171431Z
UID:616-1716051600-1716066000@sceniccitycigars.com
SUMMARY:Black Label Cigars
DESCRIPTION:Join us for a night with Black Label Cigars. “Black Label Trading Company creates hand crafted premium cigars of the utmost quality in small batch\, highly limited quantities. This allows us to meticulously select the finest tobacco from the richest tobacco-growing regions of Nicaragua\, Honduras\, Mexico and Ecuador. This allows our master blender\, expert growers and hand rollers to produce utterly unique cigars of unsurpassed quality and flavor. Finally\, this approach to cigar making replaces the standard cigar experience with the Black Label Cigar Experience.” \n– Buy 5 cigars get 1 free \n– Buy 10 cigars get 2 free \n– Buy 15 cigars get 3 free \n– Buy 20 cigars get 4 free \n– Box discounts & free swag with box purchase
URL:https://sceniccitycigars.com/event/black-label-cigars/
LOCATION:Scenic City Cigars\, 7912 E Brainerd Rd\, Chattanooga\, TN 37421\, Chattanooga\, TN\, 37421\, United States
ATTACH;FMTTYPE=image/jpeg:https://sceniccitycigars.com/wp-content/uploads/2024/05/Black-Label-FB-1.jpg
END:VEVENT
BEGIN:VEVENT
DTSTART;TZID=America/New_York:20240504T180000
DTEND;TZID=America/New_York:20240504T210000
DTSTAMP:20260419T165059
CREATED:20240425T173404Z
LAST-MODIFIED:20240426T165653Z
UID:612-1714845600-1714856400@sceniccitycigars.com
SUMMARY:Derby Day Party
DESCRIPTION:Don your spring suits\, dresses\, and fancy hats for a Derby Day Party with us! You’ll enjoy: \n\n– Tasty Mint Julep Mocktails\n– Delicious Cupcakes (while supplies last)\n– A scratch-off game to get your competitive juices flowing\n\nDerby attire is highly encouraged and awards will be given at 8:00 for Best Dressed and Best Derby Hat.
URL:https://sceniccitycigars.com/event/derby-day-party/
LOCATION:Scenic City Cigars\, 7912 E Brainerd Rd\, Chattanooga\, TN 37421\, Chattanooga\, TN\, 37421\, United States
ATTACH;FMTTYPE=image/jpeg:https://sceniccitycigars.com/wp-content/uploads/2024/04/Derby-event.jpg
END:VEVENT
BEGIN:VEVENT
DTSTART;TZID=America/New_York:20240426T170000
DTEND;TZID=America/New_York:20240426T210000
DTSTAMP:20260419T165059
CREATED:20240401T221210Z
LAST-MODIFIED:20240401T221210Z
UID:608-1714150800-1714165200@sceniccitycigars.com
SUMMARY:Miami Vice Party with Crux
DESCRIPTION:Join us in Miami for a party Crux Cigars! Don your sports coats and neon attire for a costume contest. \nYou’ll enjoy specials from Crux  and music and fashions straight from 1980s Miami.
URL:https://sceniccitycigars.com/event/miami-vice-party-with-crux/
LOCATION:Scenic City Cigars\, 7912 E Brainerd Rd\, Chattanooga\, TN 37421\, Chattanooga\, TN\, 37421\, United States
ATTACH;FMTTYPE=image/jpeg:https://sceniccitycigars.com/wp-content/uploads/2024/04/Miami-Vice-Event.jpg
END:VEVENT
BEGIN:VEVENT
DTSTART;TZID=America/New_York:20240418T180000
DTEND;TZID=America/New_York:20240418T210000
DTSTAMP:20260419T165059
CREATED:20240401T220643Z
LAST-MODIFIED:20240401T220643Z
UID:605-1713463200-1713474000@sceniccitycigars.com
SUMMARY:April Ladies Night
DESCRIPTION:All ladies are welcome to enjoy cigars and make some new friends in a welcoming atmosphere. \nJoin Brittany from QI/Xikar and hear a brief presentation on the new cutters and lighters that debuted at PCA this year. \n 
URL:https://sceniccitycigars.com/event/april-ladies-night/
LOCATION:Scenic City Cigars\, 7912 E Brainerd Rd\, Chattanooga\, TN 37421\, Chattanooga\, TN\, 37421\, United States
ATTACH;FMTTYPE=image/jpeg:https://sceniccitycigars.com/wp-content/uploads/2024/04/Ladies-Night-April.jpg
END:VEVENT
BEGIN:VEVENT
DTSTART;TZID=America/New_York:20240410T180000
DTEND;TZID=America/New_York:20240410T220000
DTSTAMP:20260419T165059
CREATED:20240401T220151Z
LAST-MODIFIED:20240401T220151Z
UID:602-1712772000-1712786400@sceniccitycigars.com
SUMMARY:Jason's 90s Hip Hop Birthday Party
DESCRIPTION:Ain’t nothin’ but a birthday party! Come kick it with Jason in your best 90s attire. \nEnjoy food\, dessert\, and 20% off Jason’s birthday cigar. \nSame crib. Same hood.
URL:https://sceniccitycigars.com/event/jasons-90s-hip-hop-birthday-party/
LOCATION:Scenic City Cigars\, 7912 E Brainerd Rd\, Chattanooga\, TN 37421\, Chattanooga\, TN\, 37421\, United States
ATTACH;FMTTYPE=image/jpeg:https://sceniccitycigars.com/wp-content/uploads/2024/04/Jasons-Party-Event.jpg
END:VEVENT
BEGIN:VEVENT
DTSTART;TZID=America/New_York:20240316T170000
DTEND;TZID=America/New_York:20240316T210000
DTSTAMP:20260419T165059
CREATED:20240304T190746Z
LAST-MODIFIED:20240312T165951Z
UID:585-1710608400-1710622800@sceniccitycigars.com
SUMMARY:St. Patrick's Day Party with Cavalier
DESCRIPTION:Don your kilts and green attire\, and join us for a St. Paddy’s Day party with Cavalier Cigars!\n\nEvent Specials:\nBuy 5 cigars\, get 1 cigar and 1 raffle ticket\nBuy 10 cigars and get 3 cigars and 3 raffle tickets\nBuy a box and get 1 swag item\, 6 cigars\, and10 raffle tickets\n\nFood & Beer:\n\nWe’ll have an green beer on tap plus an Irish-inspired buffet with corned beef\, cabbage\, carrots\, potatoes\, and dessert! \n(Buffet tickets: $15 per person and $10 for members.)
URL:https://sceniccitycigars.com/event/st-patricks-day-party-with-cavalier/
LOCATION:Scenic City Cigars\, 7912 E Brainerd Rd\, Chattanooga\, TN 37421\, Chattanooga\, TN\, 37421\, United States
ATTACH;FMTTYPE=image/jpeg:https://sceniccitycigars.com/wp-content/uploads/2024/03/St-Paddys_event.jpg
END:VEVENT
BEGIN:VEVENT
DTSTART;TZID=America/New_York:20240307T180000
DTEND;TZID=America/New_York:20240307T200000
DTSTAMP:20260419T165059
CREATED:20240227T202606Z
LAST-MODIFIED:20240227T202653Z
UID:577-1709834400-1709841600@sceniccitycigars.com
SUMMARY:Ladies' Night
DESCRIPTION:“Who runs the world?” In honor of International Women’s Day\, join us for out first Ladies’ Night!\n– 15% off everything for ladies\n– Enter to win door prizes\n-Drawings at 6 pm and 8 pm (must be present to win)
URL:https://sceniccitycigars.com/event/ladies-night/
LOCATION:Scenic City Cigars\, 7912 E Brainerd Rd\, Chattanooga\, TN 37421\, Chattanooga\, TN\, 37421\, United States
ATTACH;FMTTYPE=image/jpeg:https://sceniccitycigars.com/wp-content/uploads/2024/02/Ladies-Night_social-2.jpg
END:VEVENT
BEGIN:VEVENT
DTSTART;TZID=America/New_York:20240223T180000
DTEND;TZID=America/New_York:20240223T220000
DTSTAMP:20260419T165059
CREATED:20240201T192748Z
LAST-MODIFIED:20240220T183326Z
UID:556-1708711200-1708725600@sceniccitycigars.com
SUMMARY:Undercrown All Dekk’d Out with Drew Estate
DESCRIPTION:Kyle Davis will be here with cigar deals\, swag\, giveaways and more! \nPlus\, we’ll have a trivia competition! \nEvent Specials: \n– Buy 5 cigars\, get 1 free \n– Buy 10 cigars\, get 2 cigars and 1 Undercrown 10 Cutter \n– Buy 20 cigars\, get 3 cigars and 1 Undercrown 10 Spray Can Lighter \n– Buy 40 cigars\, get 4 cigars and 1 Undercrown 10 Ceramic Ashtray \n 
URL:https://sceniccitycigars.com/event/undercrown-all-dekkd-out-with-drew-estate/
LOCATION:Scenic City Cigars\, 7912 E Brainerd Rd\, Chattanooga\, TN 37421\, Chattanooga\, TN\, 37421\, United States
ATTACH;FMTTYPE=image/jpeg:https://sceniccitycigars.com/wp-content/uploads/2024/02/Drew-Estate-event-1.jpg
END:VEVENT
BEGIN:VEVENT
DTSTART;TZID=America/New_York:20240217T180000
DTEND;TZID=America/New_York:20240217T210000
DTSTAMP:20260419T165059
CREATED:20240201T194303Z
LAST-MODIFIED:20240212T173629Z
UID:560-1708192800-1708203600@sceniccitycigars.com
SUMMARY:Partnership for Families\, Children and Adults Benefit
DESCRIPTION:Enjoy BBQ\, drinks\, and fun for a good cause!\n  \n\nHear from Dr. James Johnson about Partnership for Families\, Children and Adults. \n\nEvent tickets are $40 and include a cigar\, beverage\, and BBQ \nLearn more about Partnership for Families\, Children and Adults here.
URL:https://sceniccitycigars.com/event/partnership-for-families-children-and-adults-benefit/
LOCATION:Scenic City Cigars\, 7912 E Brainerd Rd\, Chattanooga\, TN 37421\, Chattanooga\, TN\, 37421\, United States
ATTACH;FMTTYPE=image/jpeg:https://sceniccitycigars.com/wp-content/uploads/2024/02/Partnership_event-1.jpg
END:VEVENT
BEGIN:VEVENT
DTSTART;TZID=America/New_York:20240213T180000
DTEND;TZID=America/New_York:20240213T200000
DTSTAMP:20260419T165059
CREATED:20240211T000129Z
LAST-MODIFIED:20240211T000129Z
UID:567-1707847200-1707854400@sceniccitycigars.com
SUMMARY:Pipe Night for a Cause
DESCRIPTION:Join us for our inaugural pipe night for pipe smokers and novices alike!  Hosted by Dr. James Johnson\, learn about Partnership for Families\, Children and Adults AND be a part of selecting the pipe tobacco we will carry at SCC. \nBeginner pipes and tools will be available for purchase. \n 
URL:https://sceniccitycigars.com/event/pipe-night-for-a-cause/
LOCATION:Scenic City Cigars\, 7912 E Brainerd Rd\, Chattanooga\, TN 37421\, Chattanooga\, TN\, 37421\, United States
ATTACH;FMTTYPE=image/jpeg:https://sceniccitycigars.com/wp-content/uploads/2024/02/Pipe-night.jpg
END:VEVENT
BEGIN:VEVENT
DTSTART;TZID=America/New_York:20240211T180000
DTEND;TZID=America/New_York:20240211T223000
DTSTAMP:20260419T165059
CREATED:20240201T191428Z
LAST-MODIFIED:20240201T191428Z
UID:553-1707674400-1707690600@sceniccitycigars.com
SUMMARY:SOUPer Bowl Party
DESCRIPTION:Join us for the big game and a Soup Cook-off Competition. Bring your best chili or soup to share\, and our judges will award prizes to the best entries in each category.
URL:https://sceniccitycigars.com/event/souper-bowl-party/
LOCATION:Scenic City Cigars\, 7912 E Brainerd Rd\, Chattanooga\, TN 37421\, Chattanooga\, TN\, 37421\, United States
ATTACH;FMTTYPE=image/jpeg:https://sceniccitycigars.com/wp-content/uploads/2024/02/Souper-Bowl-Event.jpg
END:VEVENT
BEGIN:VEVENT
DTSTART;TZID=America/New_York:20240119T180000
DTEND;TZID=America/New_York:20240119T220000
DTSTAMP:20260419T165059
CREATED:20240109T185358Z
LAST-MODIFIED:20240109T185442Z
UID:542-1705687200-1705701600@sceniccitycigars.com
SUMMARY:J.W. Kelly & Lampert Cigars
DESCRIPTION:Could this be the perfect Friday Night? Join us January 19\, for a Whiskey Tasting with J.W. Kelly from 6:00 – 8:00 PM (tickets are $25 per person) and a Cut & Light with Lampert Cigars from 6:00 – 10:00 PM. \nWhiskey Tasting Led by Ed Kohl:  \nEd Kohl\, CEO of J.W. Kelly\, will be on hand to pour and discuss the entire line of J.W. Kelly bourbons and ryes. Ed is one of the leading Single Malt Scotch experts and educators in the United States. In 2012 Ed was inducted into “The Keepers of the Quaich\,” a Scotland original organization that honors and gives recognition to individuals who have worked\, excelled and promoted the growth of Whisky and Scotch for more than 10 years. In September 2017\, Ed was inducted into the Order of the Musketeers in France. This is an organization designed to honor and promote Armagnac Brandy. \nLampert Cigars: \nOffers premium cigars made in Costa Rica\, Nicaragua & Dominican Republic. Purchase 10 or more cigars at the event and receive complimentary swag.
URL:https://sceniccitycigars.com/event/j-w-kelly-lampert-cigars/
LOCATION:Scenic City Cigars\, 7912 E Brainerd Rd\, Chattanooga\, TN 37421\, Chattanooga\, TN\, 37421\, United States
ATTACH;FMTTYPE=image/jpeg:https://sceniccitycigars.com/wp-content/uploads/2024/01/Jan-19.jpg
END:VEVENT
BEGIN:VEVENT
DTSTART;TZID=America/New_York:20231209T160000
DTEND;TZID=America/New_York:20231209T210000
DTSTAMP:20260419T165059
CREATED:20231106T211626Z
LAST-MODIFIED:20231127T172024Z
UID:529-1702137600-1702155600@sceniccitycigars.com
SUMMARY:National Lampoons Christmas Party with Espinosa
DESCRIPTION:It’s time to get your dickey and Christmas sweater down from the attic\, and find your jello mold\,  because “we’re gonna have the hap-hap-happiest Christmas.” Join us for a Christmas party in the spirit of Clark Griswold and his family. There will be tasty treats\, an ugly sweater contest\, and cigar deals from Espinosa. \nEspinosa Event Specials:\n\nBuy 4 get 1 free\nBuy 10 get 3 free\nBuy 20 get 3 free\, and 10% off plus swag\n\nContest Categories:\n\nMost Creative Catastrophe: Show off your crafting skills and make your sweater a masterpiece of mayhem!\nTackiest Tinsel Tragedy: If your sweater can be seen from outer space\, you’re on the right track.\nBest Griswold Family Impersonation: Embrace your inner Clark or Cousin Eddie and dazzle us with your best Griswold-themed sweater or outfit.
URL:https://sceniccitycigars.com/event/national-lampoons-christmas-party-with-espinosa/
LOCATION:Scenic City Cigars\, 7912 E Brainerd Rd\, Chattanooga\, TN 37421\, Chattanooga\, TN\, 37421\, United States
ATTACH;FMTTYPE=image/jpeg:https://sceniccitycigars.com/wp-content/uploads/2023/11/Christmas-Party.jpg
END:VEVENT
BEGIN:VEVENT
DTSTART;TZID=America/New_York:20231123T150000
DTEND;TZID=America/New_York:20231123T200000
DTSTAMP:20260419T165059
CREATED:20231106T204527Z
LAST-MODIFIED:20231106T204931Z
UID:524-1700751600-1700769600@sceniccitycigars.com
SUMMARY:Friendsgiving at SCC
DESCRIPTION:If you don’t have plans for Thanksgiving\, or simply need a break from family\, come have a cigar (or two) with us! All are welcome to join us on Thanksgiving Day in a relaxed environment. Plus\, you won’t be forced to sample Aunt Ada’s jello salad or try the mystery casserole from your vegan cousin. You’re welcome!
URL:https://sceniccitycigars.com/event/friendsgiving-at-scc/
LOCATION:Scenic City Cigars\, 7912 E Brainerd Rd\, Chattanooga\, TN 37421\, Chattanooga\, TN\, 37421\, United States
ATTACH;FMTTYPE=image/jpeg:https://sceniccitycigars.com/wp-content/uploads/2023/11/Friendsgiving-with-address.jpg
END:VEVENT
BEGIN:VEVENT
DTSTART;TZID=America/New_York:20231104T160000
DTEND;TZID=America/New_York:20231104T210000
DTSTAMP:20260419T165059
CREATED:20230825T193913Z
LAST-MODIFIED:20231002T184236Z
UID:465-1699113600-1699131600@sceniccitycigars.com
SUMMARY:Drew Estate S'mores Competition
DESCRIPTION:Event Deals\n– Buy 5\, get 1 free\n– Buy 10\, get 2 free + swag item\n– Buy 20\, get 4 free + swag item\n  \n\nS’mores Competition\nPurchase 3 cigars for entry. There will be 2 categories: Best Traditional S’more and Most Creative S’more (both will be judged based on appearance and taste). We will provide the graham crackers\, marshmallows\, and chocolate. (You will need to provide any additional ingredients for the Creative category.)\n  \nThere will be a 1st & 2nd place winner in each category.\n  \n1st place gets a $50 Scenic City Cigars gift card and 2 Drew Estate cigars\n2nd place gets 3 Drew Estate cigars
URL:https://sceniccitycigars.com/event/smores-with-drew-estate/
LOCATION:Scenic City Cigars\, 7912 E Brainerd Rd\, Chattanooga\, TN 37421\, Chattanooga\, TN\, 37421\, United States
ATTACH;FMTTYPE=image/jpeg:https://sceniccitycigars.com/wp-content/uploads/2023/08/Smores-Contest.jpg
END:VEVENT
BEGIN:VEVENT
DTSTART;TZID=America/New_York:20231102T180000
DTEND;TZID=America/New_York:20231102T203000
DTSTAMP:20260419T165059
CREATED:20231002T185938Z
LAST-MODIFIED:20231016T163514Z
UID:513-1698948000-1698957000@sceniccitycigars.com
SUMMARY:Scotch Whisky Tasting with Ed Kohl
DESCRIPTION:Join us for a Single Malt Whisky Tasting Event! \nAbout the Experience\nEd Kohl will take you through the distillation techniques of the various distilleries and share his knowledge of each dram. \nTickets: $15\nAbout Ed Kohl\, Whisky Expert\nEd has been in the spirits industry over 50 years. He was inducted into the Keepers of the Quaich in 2011 and into the Society of the Musketeers in 2017. He is the CEO of Keeper’s Quest\, Inc. in Chattanooga\, TN. \n 
URL:https://sceniccitycigars.com/event/scotch-whisky-tasting-with-ed-kohl/
LOCATION:Scenic City Cigars\, 7912 E Brainerd Rd\, Chattanooga\, TN 37421\, Chattanooga\, TN\, 37421\, United States
ATTACH;FMTTYPE=image/jpeg:https://sceniccitycigars.com/wp-content/uploads/2023/10/Scotch-tasting.jpg
END:VEVENT
BEGIN:VEVENT
DTSTART;TZID=America/New_York:20231021T160000
DTEND;TZID=America/New_York:20231021T200000
DTSTAMP:20260419T165059
CREATED:20231016T163347Z
LAST-MODIFIED:20231016T163347Z
UID:518-1697904000-1697918400@sceniccitycigars.com
SUMMARY:Oktoberfest!
DESCRIPTION:Get your lederhosen and dirndls ready and join us for our first Oktoberfest to celebrate our new beer license! \nGerman food and beer will be available for purchase. Plus we’ll have deals on our German cigars! \nGerman-inspired dress encouraged but not required!
URL:https://sceniccitycigars.com/event/oktoberfest/
LOCATION:Scenic City Cigars\, 7912 E Brainerd Rd\, Chattanooga\, TN 37421\, Chattanooga\, TN\, 37421\, United States
ATTACH;FMTTYPE=image/jpeg:https://sceniccitycigars.com/wp-content/uploads/2023/10/Oktoberfest.jpg
END:VEVENT
BEGIN:VEVENT
DTSTART;TZID=America/New_York:20231006T160000
DTEND;TZID=America/New_York:20231006T200000
DTSTAMP:20260419T165059
CREATED:20230911T184249Z
LAST-MODIFIED:20230926T014253Z
UID:473-1696608000-1696622400@sceniccitycigars.com
SUMMARY:Foundation Cigar Company Event
DESCRIPTION:Join us for an event with Foundation Cigar Company! \nFoundation Cigar Company\, started in 2015 by Nicholas Melillo\, is known for its dedication to quality and a willingness to push the boundaries on blending and flavor. Whether it’s the budget Charter Oak that will blow you away with its price point to quality ratio or the Olmec with its complexity and depth of flavors\, or any of the other faces Foundation has to offer\, there is something for everyone within this brand’s catalog of offerings. \nEvent specials will include:\n– Buy 5\, get 1 free \n– Buy 10\, get 2 free \n– Buy a box\, get 5 free and a swag item \n– Hourly raffle drawings for Foundation Swag items.
URL:https://sceniccitycigars.com/event/foundation-cigar-company-cut-light/
LOCATION:Scenic City Cigars\, 7912 E Brainerd Rd\, Chattanooga\, TN 37421\, Chattanooga\, TN\, 37421\, United States
ATTACH;FMTTYPE=image/jpeg:https://sceniccitycigars.com/wp-content/uploads/2023/09/Event-Cover.jpg
END:VEVENT
BEGIN:VEVENT
DTSTART;TZID=America/New_York:20230928T170000
DTEND;TZID=America/New_York:20230928T200000
DTSTAMP:20260419T165059
CREATED:20230825T191036Z
LAST-MODIFIED:20230922T201944Z
UID:460-1695920400-1695931200@sceniccitycigars.com
SUMMARY:"A Night in Havana" Birthday Party for Rob & Christine
DESCRIPTION:You’re invited to “A Night in Havana” to celebrate Rob & Christine’s birthdays!\n  \nWe’ll enjoy:\n-Cuban sandwiches and desserts served at 6:00 \n-Cuban music & dancing \n-Mocktails\, Dominoes\, and Giveaways \nCuban-inspired Dress Encouraged!\n(Guys: Guayaberas and fedoras\nLadies: Linen\, ruffle dresses and hats)\n  \nShow this invitation for either10% off Rob’s September Choice Cigar or 10% off Christine’s September Choice Cigar.\n\n*Only two selected cigars are valid for discount.\nOffer valid only on 9-28-2023*
URL:https://sceniccitycigars.com/event/havana-nights-birthday-celebration-for-rob-christine/
LOCATION:Scenic City Cigars\, 7912 E Brainerd Rd\, Chattanooga\, TN 37421\, Chattanooga\, TN\, 37421\, United States
ATTACH;FMTTYPE=image/jpeg:https://sceniccitycigars.com/wp-content/uploads/2023/08/Birthday-1.jpg
END:VEVENT
BEGIN:VEVENT
DTSTART;TZID=America/New_York:20230909T120000
DTEND;TZID=America/New_York:20230909T200000
DTSTAMP:20260419T165059
CREATED:20230825T181825Z
LAST-MODIFIED:20230825T183839Z
UID:456-1694260800-1694289600@sceniccitycigars.com
SUMMARY:Grand Opening: Saturday Celebration with Crux & EPC
DESCRIPTION:Join us Saturday\, Sep. 9\, for music\, BBQ\, games\, and giveaways with Crux Cigars from 12:00 – 3:00 PM and EP Carrillo Cigars from 4:00 – 8:00 PM.
URL:https://sceniccitycigars.com/event/grand-opening-saturday-celebration-with-crux-epc/
LOCATION:Scenic City Cigars\, 7912 E Brainerd Rd\, Chattanooga\, TN 37421\, Chattanooga\, TN\, 37421\, United States
ATTACH;FMTTYPE=image/png:https://sceniccitycigars.com/wp-content/uploads/2023/08/Saturday-revised.png
END:VEVENT
BEGIN:VEVENT
DTSTART;TZID=America/New_York:20230908T153000
DTEND;TZID=America/New_York:20230908T200000
DTSTAMP:20260419T165059
CREATED:20230825T181404Z
LAST-MODIFIED:20230825T181405Z
UID:452-1694187000-1694203200@sceniccitycigars.com
SUMMARY:Grand Opening: Friday Celebration with Oliva
DESCRIPTION:Join us Friday\, Sep. 8\, for a ribbon cutting beginning at 3;30\, VIP reception\, giveaways and more! Oliva Cigar Co. will be onsite from 4:00 – 8:00 PM.
URL:https://sceniccitycigars.com/event/grand-opening-friday-celebration-with-oliva/
LOCATION:Scenic City Cigars\, 7912 E Brainerd Rd\, Chattanooga\, TN 37421\, Chattanooga\, TN\, 37421\, United States
ATTACH;FMTTYPE=image/png:https://sceniccitycigars.com/wp-content/uploads/2023/08/Friday.png
END:VEVENT
END:VCALENDAR